﻿BEGIN:VCALENDAR
VERSION:2.0
PRODID:-//Överby Pistolskytteklubb, Strömstad - ECPv6.8.3//NONSGML v1.0//EN
CALSCALE:GREGORIAN
METHOD:PUBLISH
X-ORIGINAL-URL:https://overbypk.se
X-WR-CALDESC:Händelser för Överby Pistolskytteklubb, Strömstad
REFRESH-INTERVAL;VALUE=DURATION:PT1H
X-Robots-Tag:noindex
X-PUBLISHED-TTL:PT1H
BEGIN:VTIMEZONE
TZID:Europe/Stockholm
BEGIN:DAYLIGHT
TZOFFSETFROM:+0100
TZOFFSETTO:+0200
TZNAME:CEST
DTSTART:20240331T010000
END:DAYLIGHT
BEGIN:STANDARD
TZOFFSETFROM:+0200
TZOFFSETTO:+0100
TZNAME:CET
DTSTART:20241027T010000
END:STANDARD
END:VTIMEZONE
BEGIN:VEVENT
DTSTART;TZID=Europe/Stockholm:20240720T000000
DTEND;TZID=Europe/Stockholm:20240720T000000
DTSTAMP:20260425T004020
CREATED:20240426T102028Z
LAST-MODIFIED:20240426T102811Z
UID:3791-1721433600-1721433600@overbypk.se
SUMMARY:Semestersnabben
DESCRIPTION:Tävlingstillfälle för Hemmabanetävling i Militär snabbmatch anordnat av Södra Dals PSF. \nHåll utkik på Supertext eller motsvarande för bekräftelse på att det blir en tävling denna dag.
URL:https://overbypk.se/index.php/event/semestersnabben-4/
LOCATION:Skjutvallen\, SÖR SLÖN 3\, Strömstad\, 452 97\, Sverige
CATEGORIES:Tävling på Hemortens Banor
ORGANIZER;CN="%C3%96verby PistolskytteKlubb":MAILTO:overbypk@gmail.com
END:VEVENT
BEGIN:VEVENT
DTSTART;TZID=Europe/Stockholm:20240727T000000
DTEND;TZID=Europe/Stockholm:20240727T000000
DTSTAMP:20260425T004020
CREATED:20240426T102027Z
LAST-MODIFIED:20240426T102857Z
UID:3792-1722038400-1722038400@overbypk.se
SUMMARY:Semestersnabben
DESCRIPTION:Tävlingstillfälle för Hemmabanetävling i Militär snabbmatch anordnat av Södra Dals PSF
URL:https://overbypk.se/index.php/event/semestersnabben-3/
LOCATION:Skjutvallen\, SÖR SLÖN 3\, Strömstad\, 452 97\, Sverige
CATEGORIES:Tävling på Hemortens Banor
END:VEVENT
END:VCALENDAR