﻿BEGIN:VCALENDAR
VERSION:2.0
PRODID:-//Överby Pistolskytteklubb, Strömstad - ECPv6.8.3//NONSGML v1.0//EN
CALSCALE:GREGORIAN
METHOD:PUBLISH
X-WR-CALNAME:Överby Pistolskytteklubb, Strömstad
X-ORIGINAL-URL:https://overbypk.se
X-WR-CALDESC:Händelser för Överby Pistolskytteklubb, Strömstad
REFRESH-INTERVAL;VALUE=DURATION:PT1H
X-Robots-Tag:noindex
X-PUBLISHED-TTL:PT1H
BEGIN:VTIMEZONE
TZID:Europe/Stockholm
BEGIN:DAYLIGHT
TZOFFSETFROM:+0100
TZOFFSETTO:+0200
TZNAME:CEST
DTSTART:20240331T010000
END:DAYLIGHT
BEGIN:STANDARD
TZOFFSETFROM:+0200
TZOFFSETTO:+0100
TZNAME:CET
DTSTART:20241027T010000
END:STANDARD
END:VTIMEZONE
BEGIN:VEVENT
DTSTART;TZID=Europe/Stockholm:20240302T000000
DTEND;TZID=Europe/Stockholm:20240302T000000
DTSTAMP:20260425T164804
CREATED:20240209T093446Z
LAST-MODIFIED:20240209T093446Z
UID:3582-1709337600-1709337600@overbypk.se
SUMMARY:Fältskytte (B). på skjutvallen i Överby
DESCRIPTION:Fältskjutning omfattar skjutning på korta tider mot i terrängen. på varierande sätt. anordnade mål. Skjutningen utförs i patruller. Förflyttning mellan målen sker i regel till fots.\nEn fältskyttetävling går ut på att med så många skott som möjligt träffa alla figurer. Resultatet anges vanligen ex: 47/25. vilket betyder 47 träff i 25 figurer. Vid vissa tävlingar (poängfältskjutning) sammanräknas antalet träff med antalet träffade figurer. Enligt exemplet ovan skulle då resultatet bli 72 poäng. \nEn tävling i fältskjutning omfattar ett antal stationer. På varje station skjuter man patrullvis mot 1 till 6 mål. Ofta är dessa uppdelade på flera målgrupper. 6 skott avlossas under mycket varierande tider. vanligen under en totaltid av 5 till 25 sekunder. I varje patrull kan 5 till 20 skyttar tävla. Vanligast är dock 10 skyttar per patrull. \nAntalet stationer varierar beroende på typ av tävling. En större mästerskapstävling såsom ett svenskt mästerskap eller ett landsdelsmästerskap omfattar vanligen 10 stationer. d.v.s. 60 skott. En nationell tävling eller en kretstävling omfattar normalt 8 stationer (48 skott). Även 6 och 7 stationer förekommer. \nInga provserier skjuts. utan tävlingen börjar direkt på den första stationen. Skytten skall vara inskjuten och väl förberedd innan tävlingen börjar. \nFör mer info – Se https://www.pistolskytteforbundet.se/om-pistolskytte/faltskyttegrenar/faltskjutning/
URL:https://overbypk.se/index.php/event/faltskytte-b-pa-skjutvallen-i-overby-5/
LOCATION:Skjutvallen\, SÖR SLÖN 3\, Strömstad\, 452 97\, Sverige
CATEGORIES:Fältskytte
ATTACH;FMTTYPE=image/jpeg:https://overbypk.se/wp-content/uploads/2023/09/D3_9422-kZj4Ch.tmp_.jpg
END:VEVENT
BEGIN:VEVENT
DTSTART;TZID=Europe/Stockholm:20240302T100000
DTEND;TZID=Europe/Stockholm:20240302T113000
DTSTAMP:20260425T164804
CREATED:20240208T193507Z
LAST-MODIFIED:20240209T093833Z
UID:3581-1709373600-1709379000@overbypk.se
SUMMARY:Poängfält (C) omg. 8
DESCRIPTION:Poängfält är en variant av fältskytte och omfattar skjutning på korta tider mot i terrängen. på varierande sätt. anordnade mål. Skjutningen utförs i patruller. Förflyttning mellan målen sker i regel till fots.\nEn poängfältskyttetävling går ut på att med så många skott som möjligt träffa alla figurer. Resultatet anges vanligen ex: 47/25. vilket betyder 47 träff i 25 figurer. Vid poängfältskjutning sammanräknas antalet träff med antalet träffade figurer. Enligt exemplet ovan skulle då resultatet bli 72 poäng. Vissa mål kan också ha poängräkning. Resultatet prioriteras då enligt: \nKritierie 1: Summa av totala antalet träffar och totala antalet träffade figurer\nKriterie 2: Totalt antal poäng på specifika poängtavlor\nKriterie 3: Bästa resultat på den sista stationen\nKriterie 4: Bästa resultat på den näst sista stationen osv. \nEn tävling i fältskjutning omfattar ett antal stationer. På varje station skjuter man patrullvis mot 1 till 6 mål. Ofta är dessa uppdelade på flera målgrupper. 6 skott avlossas under mycket varierande tider. vanligen under en totaltid av 5 till 25 sekunder.  \nAntalet stationer varierar beroende på typ av tävling. En större mästerskapstävling såsom ett svenskt mästerskap eller ett landsdelsmästerskap omfattar vanligen 10 stationer. d.v.s. 60 skott. En nationell tävling eller en kretstävling omfattar normalt 8 stationer (48 skott). Även 6 och 7 stationer förekommer. \nInga provserier skjuts. utan tävlingen börjar direkt på den första stationen. Skytten skall vara inskjuten och väl förberedd innan tävlingen börjar. \nFör mer info – Se https://www.pistolskytteforbundet.se/om-pistolskytte/faltskyttegrenar/faltskjutning/
URL:https://overbypk.se/index.php/event/poangfalt-c-omg-8/
LOCATION:Skjutvallen\, SÖR SLÖN 3\, Strömstad\, 452 97\, Sverige
CATEGORIES:Klubbdeltävling
ATTACH;FMTTYPE=image/jpeg:https://overbypk.se/wp-content/uploads/2023/09/D3_9422-kZj4Ch.tmp_.jpg
END:VEVENT
BEGIN:VEVENT
DTSTART;TZID=Europe/Stockholm:20240305T173000
DTEND;TZID=Europe/Stockholm:20240305T183000
DTSTAMP:20260425T164804
CREATED:20240209T092957Z
LAST-MODIFIED:20240209T092957Z
UID:3229-1709659800-1709663400@overbypk.se
SUMMARY:LPU 8
DESCRIPTION:Luftpistol för Ungdomar. Skjutning inomhus i klubbhuset. Leds av ungdomsledarna.\nFör mer info se https://www.pistolskytteforbundet.se/om-pistolskytte/banskyttegrenar/luftpistol/
URL:https://overbypk.se/index.php/event/lpu-8/
LOCATION:Klubbstugan
CATEGORIES:Ungdomsaktivitet
ATTACH;FMTTYPE=image/jpeg:https://overbypk.se/wp-content/uploads/2023/09/IMG_1107-2023-09-07-05_43_50-scaled-D9UF4n.tmp_.jpg
END:VEVENT
BEGIN:VEVENT
DTSTART;TZID=Europe/Stockholm:20240307T100000
DTEND;TZID=Europe/Stockholm:20240307T150000
DTSTAMP:20260425T164804
CREATED:20240209T092615Z
LAST-MODIFIED:20240209T092615Z
UID:3230-1709805600-1709823600@overbypk.se
SUMMARY:LPÄ
DESCRIPTION:Luftpistol för Seniorer. Skjutning inomhus i klubbhuset. Kom ihåg att städa och återställa tavlor och målspel efter dig.\nFör mer info se https://www.pistolskytteforbundet.se/om-pistolskytte/banskyttegrenar/luftpistol/
URL:https://overbypk.se/index.php/event/lpa-14/
LOCATION:Klubbstugan
CATEGORIES:Egen Träning
ATTACH;FMTTYPE=image/jpeg:https://overbypk.se/wp-content/uploads/2023/09/ragnar-skanaker.jpg
END:VEVENT
BEGIN:VEVENT
DTSTART;TZID=Europe/Stockholm:20240307T150000
DTEND;TZID=Europe/Stockholm:20240307T200000
DTSTAMP:20260425T164804
CREATED:20240209T092957Z
LAST-MODIFIED:20240209T092957Z
UID:3231-1709823600-1709841600@overbypk.se
SUMMARY:LP
DESCRIPTION:Luftpistolträning för alla. Kom ihåg att städa och återställa tavlor och målspel efter dig.\nFör mer info se på https://www.pistolskytteforbundet.se/om-pistolskytte/banskyttegrenar/luftpistol/
URL:https://overbypk.se/index.php/event/lp-12/
LOCATION:Klubbstugan
CATEGORIES:Egen Träning
ATTACH;FMTTYPE=image/jpeg:https://overbypk.se/wp-content/uploads/2023/09/luftp_ap40.jpg
END:VEVENT
BEGIN:VEVENT
DTSTART;TZID=Europe/Stockholm:20240309T100000
DTEND;TZID=Europe/Stockholm:20240309T113000
DTSTAMP:20260425T164804
CREATED:20240208T193540Z
LAST-MODIFIED:20240209T093907Z
UID:3583-1709978400-1709983800@overbypk.se
SUMMARY:Poängfält (C) omg. 9
DESCRIPTION:Poängfält är en variant av fältskytte och omfattar skjutning på korta tider mot i terrängen. på varierande sätt. anordnade mål. Skjutningen utförs i patruller. Förflyttning mellan målen sker i regel till fots.\nEn poängfältskyttetävling går ut på att med så många skott som möjligt träffa alla figurer. Resultatet anges vanligen ex: 47/25. vilket betyder 47 träff i 25 figurer. Vid poängfältskjutning sammanräknas antalet träff med antalet träffade figurer. Enligt exemplet ovan skulle då resultatet bli 72 poäng. Vissa mål kan också ha poängräkning. Resultatet prioriteras då enligt: \nKritierie 1: Summa av totala antalet träffar och totala antalet träffade figurer\nKriterie 2: Totalt antal poäng på specifika poängtavlor\nKriterie 3: Bästa resultat på den sista stationen\nKriterie 4: Bästa resultat på den näst sista stationen osv. \nEn tävling i fältskjutning omfattar ett antal stationer. På varje station skjuter man patrullvis mot 1 till 6 mål. Ofta är dessa uppdelade på flera målgrupper. 6 skott avlossas under mycket varierande tider. vanligen under en totaltid av 5 till 25 sekunder.  \nAntalet stationer varierar beroende på typ av tävling. En större mästerskapstävling såsom ett svenskt mästerskap eller ett landsdelsmästerskap omfattar vanligen 10 stationer. d.v.s. 60 skott. En nationell tävling eller en kretstävling omfattar normalt 8 stationer (48 skott). Även 6 och 7 stationer förekommer. \nInga provserier skjuts. utan tävlingen börjar direkt på den första stationen. Skytten skall vara inskjuten och väl förberedd innan tävlingen börjar. \nFör mer info – Se https://www.pistolskytteforbundet.se/om-pistolskytte/faltskyttegrenar/faltskjutning/
URL:https://overbypk.se/index.php/event/poangfalt-c-omg-9/
LOCATION:Skjutvallen\, SÖR SLÖN 3\, Strömstad\, 452 97\, Sverige
CATEGORIES:Klubbdeltävling
ATTACH;FMTTYPE=image/jpeg:https://overbypk.se/wp-content/uploads/2023/09/D3_9422-kZj4Ch.tmp_.jpg
END:VEVENT
BEGIN:VEVENT
DTSTART;TZID=Europe/Stockholm:20240309T120000
DTEND;TZID=Europe/Stockholm:20240309T130000
DTSTAMP:20260425T164804
CREATED:20240209T090319Z
LAST-MODIFIED:20240209T090319Z
UID:3584-1709985600-1709989200@overbypk.se
SUMMARY:Kvartalsmöte - Styrelsemöte
DESCRIPTION:Föreningens styrelse samlas i klubbhuset för ett styrelsemöte. Eftersom det är ett kvartalsmöte så är alla medlemmar välkomna att deltaga.
URL:https://overbypk.se/index.php/event/kvartalsmote-styrelsemote-2/
LOCATION:Klubbstugan
CATEGORIES:Styrelsemöte
ATTACH;FMTTYPE=image/jpeg:https://overbypk.se/wp-content/uploads/2023/06/Styrelse.jpg
END:VEVENT
BEGIN:VEVENT
DTSTART;TZID=Europe/Stockholm:20240312T173000
DTEND;TZID=Europe/Stockholm:20240312T183000
DTSTAMP:20260425T164804
CREATED:20240209T092957Z
LAST-MODIFIED:20240209T092957Z
UID:3234-1710264600-1710268200@overbypk.se
SUMMARY:LPU 9
DESCRIPTION:Luftpistol för Ungdomar. Skjutning inomhus i klubbhuset. Leds av ungdomsledarna.\nFör mer info se https://www.pistolskytteforbundet.se/om-pistolskytte/banskyttegrenar/luftpistol/
URL:https://overbypk.se/index.php/event/lpu-9/
LOCATION:Klubbstugan
CATEGORIES:Ungdomsaktivitet
ATTACH;FMTTYPE=image/jpeg:https://overbypk.se/wp-content/uploads/2023/09/IMG_1107-2023-09-07-05_43_50-scaled-D9UF4n.tmp_.jpg
END:VEVENT
BEGIN:VEVENT
DTSTART;TZID=Europe/Stockholm:20240314T100000
DTEND;TZID=Europe/Stockholm:20240314T150000
DTSTAMP:20260425T164804
CREATED:20240209T092615Z
LAST-MODIFIED:20240209T092615Z
UID:3235-1710410400-1710428400@overbypk.se
SUMMARY:LPÄ
DESCRIPTION:Luftpistol för Seniorer. Skjutning inomhus i klubbhuset. Kom ihåg att städa och återställa tavlor och målspel efter dig.\nFör mer info se https://www.pistolskytteforbundet.se/om-pistolskytte/banskyttegrenar/luftpistol/
URL:https://overbypk.se/index.php/event/lpa-13/
LOCATION:Klubbstugan
CATEGORIES:Egen Träning
ATTACH;FMTTYPE=image/jpeg:https://overbypk.se/wp-content/uploads/2023/09/ragnar-skanaker.jpg
END:VEVENT
BEGIN:VEVENT
DTSTART;TZID=Europe/Stockholm:20240314T150000
DTEND;TZID=Europe/Stockholm:20240314T200000
DTSTAMP:20260425T164804
CREATED:20240209T092957Z
LAST-MODIFIED:20240209T092957Z
UID:3236-1710428400-1710446400@overbypk.se
SUMMARY:LP
DESCRIPTION:Luftpistolträning för alla. Kom ihåg att städa och återställa tavlor och målspel efter dig.\nFör mer info se på https://www.pistolskytteforbundet.se/om-pistolskytte/banskyttegrenar/luftpistol/
URL:https://overbypk.se/index.php/event/lp-11/
LOCATION:Klubbstugan
CATEGORIES:Egen Träning
ATTACH;FMTTYPE=image/jpeg:https://overbypk.se/wp-content/uploads/2023/09/luftp_ap40.jpg
END:VEVENT
BEGIN:VEVENT
DTSTART;TZID=Europe/Stockholm:20240316T000000
DTEND;TZID=Europe/Stockholm:20240316T000000
DTSTAMP:20260425T164804
CREATED:20240209T092502Z
LAST-MODIFIED:20240209T092502Z
UID:3586-1710547200-1710547200@overbypk.se
SUMMARY:Fältskytte (A+R). på Skee skyttegille
DESCRIPTION:Fältskjutning omfattar skjutning på korta tider mot i terrängen. på varierande sätt. anordnade mål. Skjutningen utförs i patruller. Förflyttning mellan målen sker i regel till fots.\nEn fältskyttetävling går ut på att med så många skott som möjligt träffa alla figurer. Resultatet anges vanligen ex: 47/25. vilket betyder 47 träff i 25 figurer. Vid vissa tävlingar (poängfältskjutning) sammanräknas antalet träff med antalet träffade figurer. Enligt exemplet ovan skulle då resultatet bli 72 poäng. \nEn tävling i fältskjutning omfattar ett antal stationer. På varje station skjuter man patrullvis mot 1 till 6 mål. Ofta är dessa uppdelade på flera målgrupper. 6 skott avlossas under mycket varierande tider. vanligen under en totaltid av 5 till 25 sekunder. I varje patrull kan 5 till 20 skyttar tävla. Vanligast är dock 10 skyttar per patrull. \nAntalet stationer varierar beroende på typ av tävling. En större mästerskapstävling såsom ett svenskt mästerskap eller ett landsdelsmästerskap omfattar vanligen 10 stationer. d.v.s. 60 skott. En nationell tävling eller en kretstävling omfattar normalt 8 stationer (48 skott). Även 6 och 7 stationer förekommer. \nInga provserier skjuts. utan tävlingen börjar direkt på den första stationen. Skytten skall vara inskjuten och väl förberedd innan tävlingen börjar. \nFör mer info – Se https://www.pistolskytteforbundet.se/om-pistolskytte/faltskyttegrenar/faltskjutning/
URL:https://overbypk.se/index.php/event/faltskytte-ar-pa-skee-skyttegille-5/
LOCATION:Skjutvallen\, SÖR SLÖN 3\, Strömstad\, 452 97\, Sverige
CATEGORIES:Egen Träning
ATTACH;FMTTYPE=image/jpeg:https://overbypk.se/wp-content/uploads/2023/09/D3_9422-kZj4Ch.tmp_.jpg
END:VEVENT
BEGIN:VEVENT
DTSTART;TZID=Europe/Stockholm:20240316T100000
DTEND;TZID=Europe/Stockholm:20240316T113000
DTSTAMP:20260425T164804
CREATED:20240208T193703Z
LAST-MODIFIED:20240209T093807Z
UID:3585-1710583200-1710588600@overbypk.se
SUMMARY:Poängfält (C) omg. 10
DESCRIPTION:Poängfält är en variant av fältskytte och omfattar skjutning på korta tider mot i terrängen. på varierande sätt. anordnade mål. Skjutningen utförs i patruller. Förflyttning mellan målen sker i regel till fots.\nEn poängfältskyttetävling går ut på att med så många skott som möjligt träffa alla figurer. Resultatet anges vanligen ex: 47/25. vilket betyder 47 träff i 25 figurer. Vid poängfältskjutning sammanräknas antalet träff med antalet träffade figurer. Enligt exemplet ovan skulle då resultatet bli 72 poäng. Vissa mål kan också ha poängräkning. Resultatet prioriteras då enligt: \nKritierie 1: Summa av totala antalet träffar och totala antalet träffade figurer\nKriterie 2: Totalt antal poäng på specifika poängtavlor\nKriterie 3: Bästa resultat på den sista stationen\nKriterie 4: Bästa resultat på den näst sista stationen osv. \nEn tävling i fältskjutning omfattar ett antal stationer. På varje station skjuter man patrullvis mot 1 till 6 mål. Ofta är dessa uppdelade på flera målgrupper. 6 skott avlossas under mycket varierande tider. vanligen under en totaltid av 5 till 25 sekunder.  \nAntalet stationer varierar beroende på typ av tävling. En större mästerskapstävling såsom ett svenskt mästerskap eller ett landsdelsmästerskap omfattar vanligen 10 stationer. d.v.s. 60 skott. En nationell tävling eller en kretstävling omfattar normalt 8 stationer (48 skott). Även 6 och 7 stationer förekommer. \nInga provserier skjuts. utan tävlingen börjar direkt på den första stationen. Skytten skall vara inskjuten och väl förberedd innan tävlingen börjar. \nFör mer info – Se https://www.pistolskytteforbundet.se/om-pistolskytte/faltskyttegrenar/faltskjutning/
URL:https://overbypk.se/index.php/event/poangfalt-c-omg-10/
LOCATION:Skjutvallen\, SÖR SLÖN 3\, Strömstad\, 452 97\, Sverige
CATEGORIES:Klubbdeltävling
ATTACH;FMTTYPE=image/jpeg:https://overbypk.se/wp-content/uploads/2023/09/D3_9422-kZj4Ch.tmp_.jpg
END:VEVENT
BEGIN:VEVENT
DTSTART;TZID=Europe/Stockholm:20240319T173000
DTEND;TZID=Europe/Stockholm:20240319T183000
DTSTAMP:20260425T164804
CREATED:20240209T092957Z
LAST-MODIFIED:20240209T092957Z
UID:3238-1710869400-1710873000@overbypk.se
SUMMARY:LPU 10
DESCRIPTION:Luftpistol för Ungdomar. Skjutning inomhus i klubbhuset. Leds av ungdomsledarna.\nFör mer info se https://www.pistolskytteforbundet.se/om-pistolskytte/banskyttegrenar/luftpistol/
URL:https://overbypk.se/index.php/event/lpu-10/
LOCATION:Klubbstugan
CATEGORIES:Ungdomsaktivitet
ATTACH;FMTTYPE=image/jpeg:https://overbypk.se/wp-content/uploads/2023/09/IMG_1107-2023-09-07-05_43_50-scaled-D9UF4n.tmp_.jpg
END:VEVENT
BEGIN:VEVENT
DTSTART;TZID=Europe/Stockholm:20240321T100000
DTEND;TZID=Europe/Stockholm:20240321T150000
DTSTAMP:20260425T164804
CREATED:20240209T092615Z
LAST-MODIFIED:20240209T092615Z
UID:3239-1711015200-1711033200@overbypk.se
SUMMARY:LPÄ
DESCRIPTION:Luftpistol för Seniorer. Skjutning inomhus i klubbhuset. Kom ihåg att städa och återställa tavlor och målspel efter dig.\nFör mer info se https://www.pistolskytteforbundet.se/om-pistolskytte/banskyttegrenar/luftpistol/
URL:https://overbypk.se/index.php/event/lpa-12/
LOCATION:Klubbstugan
CATEGORIES:Egen Träning
ATTACH;FMTTYPE=image/jpeg:https://overbypk.se/wp-content/uploads/2023/09/ragnar-skanaker.jpg
END:VEVENT
BEGIN:VEVENT
DTSTART;TZID=Europe/Stockholm:20240321T150000
DTEND;TZID=Europe/Stockholm:20240321T200000
DTSTAMP:20260425T164804
CREATED:20240209T092957Z
LAST-MODIFIED:20240209T092957Z
UID:3240-1711033200-1711051200@overbypk.se
SUMMARY:LP
DESCRIPTION:Luftpistolträning för alla. Kom ihåg att städa och återställa tavlor och målspel efter dig.\nFör mer info se på https://www.pistolskytteforbundet.se/om-pistolskytte/banskyttegrenar/luftpistol/
URL:https://overbypk.se/index.php/event/lp-10/
LOCATION:Klubbstugan
CATEGORIES:Egen Träning
ATTACH;FMTTYPE=image/jpeg:https://overbypk.se/wp-content/uploads/2023/09/luftp_ap40.jpg
END:VEVENT
BEGIN:VEVENT
DTSTART;TZID=Europe/Stockholm:20240322T180000
DTEND;TZID=Europe/Stockholm:20240322T210000
DTSTAMP:20260425T164804
CREATED:20240209T090125Z
LAST-MODIFIED:20240220T125340Z
UID:3587-1711130400-1711141200@overbypk.se
SUMMARY:Årsmöte
DESCRIPTION:Vi samlas i klubbhuset för att hålla årets årsmöte som är definierat i stadgarna. Kallelse ska enligt stadgarna skickas ut i god tid innan.
URL:https://overbypk.se/index.php/event/arsmote-2/
LOCATION:Klubbstugan
ATTACH;FMTTYPE=image/jpeg:https://overbypk.se/wp-content/uploads/2023/09/arsmote.jpg
ORGANIZER;CN="%C3%96verby PistolskytteKlubb":MAILTO:overbypk@gmail.com
END:VEVENT
BEGIN:VEVENT
DTSTART;TZID=Europe/Stockholm:20240323T000000
DTEND;TZID=Europe/Stockholm:20240323T000000
DTSTAMP:20260425T164804
CREATED:20240209T093446Z
LAST-MODIFIED:20240209T093446Z
UID:3589-1711152000-1711152000@overbypk.se
SUMMARY:Fältskytte (B). på skjutvallen i Överby
DESCRIPTION:Fältskjutning omfattar skjutning på korta tider mot i terrängen. på varierande sätt. anordnade mål. Skjutningen utförs i patruller. Förflyttning mellan målen sker i regel till fots.\nEn fältskyttetävling går ut på att med så många skott som möjligt träffa alla figurer. Resultatet anges vanligen ex: 47/25. vilket betyder 47 träff i 25 figurer. Vid vissa tävlingar (poängfältskjutning) sammanräknas antalet träff med antalet träffade figurer. Enligt exemplet ovan skulle då resultatet bli 72 poäng. \nEn tävling i fältskjutning omfattar ett antal stationer. På varje station skjuter man patrullvis mot 1 till 6 mål. Ofta är dessa uppdelade på flera målgrupper. 6 skott avlossas under mycket varierande tider. vanligen under en totaltid av 5 till 25 sekunder. I varje patrull kan 5 till 20 skyttar tävla. Vanligast är dock 10 skyttar per patrull. \nAntalet stationer varierar beroende på typ av tävling. En större mästerskapstävling såsom ett svenskt mästerskap eller ett landsdelsmästerskap omfattar vanligen 10 stationer. d.v.s. 60 skott. En nationell tävling eller en kretstävling omfattar normalt 8 stationer (48 skott). Även 6 och 7 stationer förekommer. \nInga provserier skjuts. utan tävlingen börjar direkt på den första stationen. Skytten skall vara inskjuten och väl förberedd innan tävlingen börjar. \nFör mer info – Se https://www.pistolskytteforbundet.se/om-pistolskytte/faltskyttegrenar/faltskjutning/
URL:https://overbypk.se/index.php/event/faltskytte-b-pa-skjutvallen-i-overby-4/
LOCATION:Skjutvallen\, SÖR SLÖN 3\, Strömstad\, 452 97\, Sverige
CATEGORIES:Fältskytte
ATTACH;FMTTYPE=image/jpeg:https://overbypk.se/wp-content/uploads/2023/09/D3_9422-kZj4Ch.tmp_.jpg
END:VEVENT
BEGIN:VEVENT
DTSTART;TZID=Europe/Stockholm:20240323T100000
DTEND;TZID=Europe/Stockholm:20240323T113000
DTSTAMP:20260425T164804
CREATED:20230910T075705Z
LAST-MODIFIED:20240321T124403Z
UID:3241-1711188000-1711193400@overbypk.se
SUMMARY:Klubbmästerskap poängfält
DESCRIPTION:Fältskjutning omfattar skjutning på korta tider mot i terrängen – på varierande sätt – anordnade mål. Skjutningen utförs i patruller. Förflyttning mellan målen sker i regel till fots.\nEn fältskyttetävling går ut på att med så många skott som möjligt träffa alla figurer. Resultatet anges vanligen ex: 47/25 – vilket betyder 47 träff i 25 figurer. Vid vissa tävlingar (poängfältskjutning) sammanräknas antalet träff med antalet träffade figurer. Enligt exemplet ovan skulle då resultatet bli 72 poäng. \nEn tävling i fältskjutning omfattar ett antal stationer. På varje station skjuter man patrullvis mot 1 till 6 mål. Ofta är dessa uppdelade på flera målgrupper. 6 skott avlossas under mycket varierande tider – vanligen under en totaltid av 5 till 25 sekunder. I varje patrull kan 5 till 20 skyttar tävla. Vanligast är dock 10 skyttar per patrull. \nAntalet stationer varierar beroende på typ av tävling. En större mästerskapstävling såsom ett svenskt mästerskap eller ett landsdelsmästerskap omfattar vanligen 10 stationer – d.v.s. 60 skott. En nationell tävling eller en kretstävling omfattar normalt 8 stationer (48 skott). Även 6 och 7 stationer förekommer. \nInga provserier skjuts – utan tävlingen börjar direkt på den första stationen. Skytten skall vara inskjuten och väl förberedd innan tävlingen börjar. \nFör mer info – Se https://www.pistolskytteforbundet.se/om-pistolskytte/faltskyttegrenar/faltskjutning/
URL:https://overbypk.se/index.php/event/klubbmasterskap-poangfalt/
LOCATION:Skjutvallen\, SÖR SLÖN 3\, Strömstad\, 452 97\, Sverige
CATEGORIES:Klubbtävling
ATTACH;FMTTYPE=image/jpeg:https://overbypk.se/wp-content/uploads/2023/09/D3_9422-kZj4Ch.tmp_.jpg
END:VEVENT
BEGIN:VEVENT
DTSTART;TZID=Europe/Stockholm:20240323T100000
DTEND;TZID=Europe/Stockholm:20240323T113000
DTSTAMP:20260425T164804
CREATED:20240208T193808Z
LAST-MODIFIED:20240209T093722Z
UID:3588-1711188000-1711193400@overbypk.se
SUMMARY:Klubbmästerskap Poängfält (C)
DESCRIPTION:Poängfält är en variant av fältskytte och omfattar skjutning på korta tider mot i terrängen. på varierande sätt. anordnade mål. Skjutningen utförs i patruller. Förflyttning mellan målen sker i regel till fots.\nEn poängfältskyttetävling går ut på att med så många skott som möjligt träffa alla figurer. Resultatet anges vanligen ex: 47/25. vilket betyder 47 träff i 25 figurer. Vid poängfältskjutning sammanräknas antalet träff med antalet träffade figurer. Enligt exemplet ovan skulle då resultatet bli 72 poäng. Vissa mål kan också ha poängräkning. Resultatet prioriteras då enligt: \nKritierie 1: Summa av totala antalet träffar och totala antalet träffade figurer\nKriterie 2: Totalt antal poäng på specifika poängtavlor\nKriterie 3: Bästa resultat på den sista stationen\nKriterie 4: Bästa resultat på den näst sista stationen osv. \nEn tävling i fältskjutning omfattar ett antal stationer. På varje station skjuter man patrullvis mot 1 till 6 mål. Ofta är dessa uppdelade på flera målgrupper. 6 skott avlossas under mycket varierande tider. vanligen under en totaltid av 5 till 25 sekunder.  \nAntalet stationer varierar beroende på typ av tävling. En större mästerskapstävling såsom ett svenskt mästerskap eller ett landsdelsmästerskap omfattar vanligen 10 stationer. d.v.s. 60 skott. En nationell tävling eller en kretstävling omfattar normalt 8 stationer (48 skott). Även 6 och 7 stationer förekommer. \nInga provserier skjuts. utan tävlingen börjar direkt på den första stationen. Skytten skall vara inskjuten och väl förberedd innan tävlingen börjar. \nFör mer info – Se https://www.pistolskytteforbundet.se/om-pistolskytte/faltskyttegrenar/faltskjutning/
URL:https://overbypk.se/index.php/event/klubbmasterskap-poangfalt-c/
LOCATION:Skjutvallen\, SÖR SLÖN 3\, Strömstad\, 452 97\, Sverige
CATEGORIES:Fältskytte,Klubbtävling
ATTACH;FMTTYPE=image/jpeg:https://overbypk.se/wp-content/uploads/2023/09/D3_9422-kZj4Ch.tmp_.jpg
END:VEVENT
BEGIN:VEVENT
DTSTART;TZID=Europe/Stockholm:20240326T173000
DTEND;TZID=Europe/Stockholm:20240326T183000
DTSTAMP:20260425T164804
CREATED:20240209T092957Z
LAST-MODIFIED:20240209T092957Z
UID:3242-1711474200-1711477800@overbypk.se
SUMMARY:LPU 11
DESCRIPTION:Luftpistol för Ungdomar. Skjutning inomhus i klubbhuset. Leds av ungdomsledarna.\nFör mer info se https://www.pistolskytteforbundet.se/om-pistolskytte/banskyttegrenar/luftpistol/
URL:https://overbypk.se/index.php/event/lpu-11/
LOCATION:Klubbstugan
CATEGORIES:Ungdomsaktivitet
ATTACH;FMTTYPE=image/jpeg:https://overbypk.se/wp-content/uploads/2023/09/IMG_1107-2023-09-07-05_43_50-scaled-D9UF4n.tmp_.jpg
END:VEVENT
BEGIN:VEVENT
DTSTART;TZID=Europe/Stockholm:20240328T100000
DTEND;TZID=Europe/Stockholm:20240328T150000
DTSTAMP:20260425T164804
CREATED:20240209T092615Z
LAST-MODIFIED:20240209T092615Z
UID:3243-1711620000-1711638000@overbypk.se
SUMMARY:LPÄ
DESCRIPTION:Luftpistol för Seniorer. Skjutning inomhus i klubbhuset. Kom ihåg att städa och återställa tavlor och målspel efter dig.\nFör mer info se https://www.pistolskytteforbundet.se/om-pistolskytte/banskyttegrenar/luftpistol/
URL:https://overbypk.se/index.php/event/lpa-11/
LOCATION:Klubbstugan
CATEGORIES:Egen Träning
ATTACH;FMTTYPE=image/jpeg:https://overbypk.se/wp-content/uploads/2023/09/ragnar-skanaker.jpg
END:VEVENT
BEGIN:VEVENT
DTSTART;TZID=Europe/Stockholm:20240328T150000
DTEND;TZID=Europe/Stockholm:20240328T200000
DTSTAMP:20260425T164804
CREATED:20240209T092957Z
LAST-MODIFIED:20240209T092957Z
UID:3244-1711638000-1711656000@overbypk.se
SUMMARY:LP
DESCRIPTION:Luftpistolträning för alla. Kom ihåg att städa och återställa tavlor och målspel efter dig.\nFör mer info se på https://www.pistolskytteforbundet.se/om-pistolskytte/banskyttegrenar/luftpistol/
URL:https://overbypk.se/index.php/event/lp-9/
LOCATION:Klubbstugan
CATEGORIES:Egen Träning
ATTACH;FMTTYPE=image/jpeg:https://overbypk.se/wp-content/uploads/2023/09/luftp_ap40.jpg
END:VEVENT
BEGIN:VEVENT
DTSTART;TZID=Europe/Stockholm:20240330T000000
DTEND;TZID=Europe/Stockholm:20240330T000000
DTSTAMP:20260425T164805
CREATED:20240209T092502Z
LAST-MODIFIED:20240209T092502Z
UID:3591-1711756800-1711756800@overbypk.se
SUMMARY:Fältskytte (A+R). på Skee skyttegille
DESCRIPTION:Fältskjutning omfattar skjutning på korta tider mot i terrängen. på varierande sätt. anordnade mål. Skjutningen utförs i patruller. Förflyttning mellan målen sker i regel till fots.\nEn fältskyttetävling går ut på att med så många skott som möjligt träffa alla figurer. Resultatet anges vanligen ex: 47/25. vilket betyder 47 träff i 25 figurer. Vid vissa tävlingar (poängfältskjutning) sammanräknas antalet träff med antalet träffade figurer. Enligt exemplet ovan skulle då resultatet bli 72 poäng. \nEn tävling i fältskjutning omfattar ett antal stationer. På varje station skjuter man patrullvis mot 1 till 6 mål. Ofta är dessa uppdelade på flera målgrupper. 6 skott avlossas under mycket varierande tider. vanligen under en totaltid av 5 till 25 sekunder. I varje patrull kan 5 till 20 skyttar tävla. Vanligast är dock 10 skyttar per patrull. \nAntalet stationer varierar beroende på typ av tävling. En större mästerskapstävling såsom ett svenskt mästerskap eller ett landsdelsmästerskap omfattar vanligen 10 stationer. d.v.s. 60 skott. En nationell tävling eller en kretstävling omfattar normalt 8 stationer (48 skott). Även 6 och 7 stationer förekommer. \nInga provserier skjuts. utan tävlingen börjar direkt på den första stationen. Skytten skall vara inskjuten och väl förberedd innan tävlingen börjar. \nFör mer info – Se https://www.pistolskytteforbundet.se/om-pistolskytte/faltskyttegrenar/faltskjutning/
URL:https://overbypk.se/index.php/event/faltskytte-ar-pa-skee-skyttegille-6/
LOCATION:Skee Skyttegille\, W69J+PJ Tjärndalen\, Sverige\, Strömstad\, 45294\, Sverige
CATEGORIES:Egen Träning
ATTACH;FMTTYPE=image/jpeg:https://overbypk.se/wp-content/uploads/2023/09/D3_9422-kZj4Ch.tmp_.jpg
END:VEVENT
END:VCALENDAR