﻿BEGIN:VCALENDAR
VERSION:2.0
PRODID:-//Överby Pistolskytteklubb, Strömstad - ECPv6.8.3//NONSGML v1.0//EN
CALSCALE:GREGORIAN
METHOD:PUBLISH
X-WR-CALNAME:Överby Pistolskytteklubb, Strömstad
X-ORIGINAL-URL:https://overbypk.se
X-WR-CALDESC:Händelser för Överby Pistolskytteklubb, Strömstad
REFRESH-INTERVAL;VALUE=DURATION:PT1H
X-Robots-Tag:noindex
X-PUBLISHED-TTL:PT1H
BEGIN:VTIMEZONE
TZID:Europe/Stockholm
BEGIN:DAYLIGHT
TZOFFSETFROM:+0100
TZOFFSETTO:+0200
TZNAME:CEST
DTSTART:20240331T010000
END:DAYLIGHT
BEGIN:STANDARD
TZOFFSETFROM:+0200
TZOFFSETTO:+0100
TZNAME:CET
DTSTART:20241027T010000
END:STANDARD
END:VTIMEZONE
BEGIN:VEVENT
DTSTART;TZID=Europe/Stockholm:20241207T120000
DTEND;TZID=Europe/Stockholm:20241207T133000
DTSTAMP:20260422T002913
CREATED:20241127T093257Z
LAST-MODIFIED:20241127T093257Z
UID:4040-1733572800-1733578200@overbypk.se
SUMMARY:Kvartalsmöte - Styrelsemöte
DESCRIPTION:Föreningens styrelse samlas i klubbhuset för ett styrelsemöte. Eftersom det är ett kvartalsmöte så är alla medlemmar välkomna att deltaga. \n 
URL:https://overbypk.se/index.php/event/kvartalsmote-styrelsemote-5/
LOCATION:Klubbstugan
CATEGORIES:Styrelsemöte
ATTACH;FMTTYPE=image/jpeg:https://overbypk.se/wp-content/uploads/2023/06/Styrelse.jpg
ORGANIZER;CN="%C3%96verby PistolskytteKlubb":MAILTO:overbypk@gmail.com
END:VEVENT
END:VCALENDAR