﻿BEGIN:VCALENDAR
VERSION:2.0
PRODID:-//Överby Pistolskytteklubb, Strömstad - ECPv6.8.3//NONSGML v1.0//EN
CALSCALE:GREGORIAN
METHOD:PUBLISH
X-ORIGINAL-URL:https://overbypk.se
X-WR-CALDESC:Händelser för Överby Pistolskytteklubb, Strömstad
REFRESH-INTERVAL;VALUE=DURATION:PT1H
X-Robots-Tag:noindex
X-PUBLISHED-TTL:PT1H
BEGIN:VTIMEZONE
TZID:Europe/Stockholm
BEGIN:DAYLIGHT
TZOFFSETFROM:+0100
TZOFFSETTO:+0200
TZNAME:CEST
DTSTART:20240331T010000
END:DAYLIGHT
BEGIN:STANDARD
TZOFFSETFROM:+0200
TZOFFSETTO:+0100
TZNAME:CET
DTSTART:20241027T010000
END:STANDARD
END:VTIMEZONE
BEGIN:VEVENT
DTSTART;TZID=Europe/Stockholm:20241012T120000
DTEND;TZID=Europe/Stockholm:20241012T130000
DTSTAMP:20260422T050032
CREATED:20240910T162437Z
LAST-MODIFIED:20240916T080302Z
UID:3984-1728734400-1728738000@overbypk.se
SUMMARY:Styrelsemöte
DESCRIPTION:Styrelsemöte för Oktober. Skicka in ärenden att hantera i god tid till Sekreteraren.
URL:https://overbypk.se/index.php/event/styrelsemote-17/
LOCATION:Klubbstugan
CATEGORIES:Styrelsemöte
ORGANIZER;CN="%C3%96verby PistolskytteKlubb":MAILTO:overbypk@gmail.com
END:VEVENT
END:VCALENDAR