﻿BEGIN:VCALENDAR
VERSION:2.0
PRODID:-//Överby Pistolskytteklubb, Strömstad - ECPv6.8.3//NONSGML v1.0//EN
CALSCALE:GREGORIAN
METHOD:PUBLISH
X-WR-CALNAME:Överby Pistolskytteklubb, Strömstad
X-ORIGINAL-URL:https://overbypk.se
X-WR-CALDESC:Händelser för Överby Pistolskytteklubb, Strömstad
REFRESH-INTERVAL;VALUE=DURATION:PT1H
X-Robots-Tag:noindex
X-PUBLISHED-TTL:PT1H
BEGIN:VTIMEZONE
TZID:Europe/Stockholm
BEGIN:DAYLIGHT
TZOFFSETFROM:+0100
TZOFFSETTO:+0200
TZNAME:CEST
DTSTART:20230326T010000
END:DAYLIGHT
BEGIN:STANDARD
TZOFFSETFROM:+0200
TZOFFSETTO:+0100
TZNAME:CET
DTSTART:20231029T010000
END:STANDARD
END:VTIMEZONE
BEGIN:VEVENT
DTSTART;TZID=Europe/Stockholm:20231111T120000
DTEND;TZID=Europe/Stockholm:20231111T130000
DTSTAMP:20260423T033628
CREATED:20230910T075618Z
LAST-MODIFIED:20230910T075618Z
UID:3176-1699704000-1699707600@overbypk.se
SUMMARY:Styrelsemöte
DESCRIPTION:Föreningens styrelse samlas i klubbhuset för ett styrelsemöte.
URL:https://overbypk.se/index.php/event/styrelsemote-10/
LOCATION:Klubbstugan
CATEGORIES:Styrelsemöte
ATTACH;FMTTYPE=image/jpeg:https://overbypk.se/wp-content/uploads/2023/06/Styrelse.jpg
END:VEVENT
END:VCALENDAR