﻿BEGIN:VCALENDAR
VERSION:2.0
PRODID:-//Överby Pistolskytteklubb, Strömstad - ECPv6.8.3//NONSGML v1.0//EN
CALSCALE:GREGORIAN
METHOD:PUBLISH
X-ORIGINAL-URL:https://overbypk.se
X-WR-CALDESC:Händelser för Överby Pistolskytteklubb, Strömstad
REFRESH-INTERVAL;VALUE=DURATION:PT1H
X-Robots-Tag:noindex
X-PUBLISHED-TTL:PT1H
BEGIN:VTIMEZONE
TZID:Europe/Stockholm
BEGIN:DAYLIGHT
TZOFFSETFROM:+0100
TZOFFSETTO:+0200
TZNAME:CEST
DTSTART:20230326T010000
END:DAYLIGHT
BEGIN:STANDARD
TZOFFSETFROM:+0200
TZOFFSETTO:+0100
TZNAME:CET
DTSTART:20231029T010000
END:STANDARD
END:VTIMEZONE
BEGIN:VEVENT
DTSTART;TZID=Europe/Stockholm:20230808T193000
DTEND;TZID=Europe/Stockholm:20230808T203000
DTSTAMP:20260425T131833
CREATED:20230615T055623Z
LAST-MODIFIED:20230615T063124Z
UID:2047-1691523000-1691526600@overbypk.se
SUMMARY:Styrelsemöte
DESCRIPTION:Vi startar igång höstsäsongen 2023 med ett styrelsemöte direkt efter skyttet (Militär Snabb).
URL:https://overbypk.se/index.php/event/styrelsemote-2/
LOCATION:Klubbstugan
CATEGORIES:Styrelsemöte
ATTACH;FMTTYPE=image/jpeg:https://overbypk.se/wp-content/uploads/2023/06/Styrelse.jpg
ORGANIZER;CN="%C3%96verby PistolskytteKlubb":MAILTO:overbypk@gmail.com
END:VEVENT
END:VCALENDAR