﻿BEGIN:VCALENDAR
VERSION:2.0
PRODID:-//Överby Pistolskytteklubb, Strömstad - ECPv6.8.3//NONSGML v1.0//EN
CALSCALE:GREGORIAN
METHOD:PUBLISH
X-WR-CALNAME:Överby Pistolskytteklubb, Strömstad
X-ORIGINAL-URL:https://overbypk.se
X-WR-CALDESC:Händelser för Överby Pistolskytteklubb, Strömstad
REFRESH-INTERVAL;VALUE=DURATION:PT1H
X-Robots-Tag:noindex
X-PUBLISHED-TTL:PT1H
BEGIN:VTIMEZONE
TZID:Europe/Stockholm
BEGIN:DAYLIGHT
TZOFFSETFROM:+0100
TZOFFSETTO:+0200
TZNAME:CEST
DTSTART:20240331T010000
END:DAYLIGHT
BEGIN:STANDARD
TZOFFSETFROM:+0200
TZOFFSETTO:+0100
TZNAME:CET
DTSTART:20241027T010000
END:STANDARD
END:VTIMEZONE
BEGIN:VEVENT
DTSTART;TZID=Europe/Stockholm:20241214T100000
DTEND;TZID=Europe/Stockholm:20241214T120000
DTSTAMP:20260421T205110
CREATED:20240910T075908Z
LAST-MODIFIED:20241209T211011Z
UID:3911-1734170400-1734177600@overbypk.se
SUMMARY:Skinkskytte
DESCRIPTION:Klubbtävling som vi har en gång om året strax innan jul. Vinnarna får fina priser.
URL:https://overbypk.se/index.php/event/skinkskytte-2/
LOCATION:Skjutvallen\, SÖR SLÖN 3\, Strömstad\, 452 97\, Sverige
CATEGORIES:Klubbtävling
ATTACH;FMTTYPE=image/jpeg:https://overbypk.se/wp-content/uploads/2023/09/jul2.jpg
ORGANIZER;CN="%C3%96verby PistolskytteKlubb":MAILTO:overbypk@gmail.com
END:VEVENT
END:VCALENDAR