﻿BEGIN:VCALENDAR
VERSION:2.0
PRODID:-//Överby Pistolskytteklubb, Strömstad - ECPv6.8.3//NONSGML v1.0//EN
CALSCALE:GREGORIAN
METHOD:PUBLISH
X-ORIGINAL-URL:https://overbypk.se
X-WR-CALDESC:Händelser för Överby Pistolskytteklubb, Strömstad
REFRESH-INTERVAL;VALUE=DURATION:PT1H
X-Robots-Tag:noindex
X-PUBLISHED-TTL:PT1H
BEGIN:VTIMEZONE
TZID:Europe/Stockholm
BEGIN:DAYLIGHT
TZOFFSETFROM:+0100
TZOFFSETTO:+0200
TZNAME:CEST
DTSTART:20240331T010000
END:DAYLIGHT
BEGIN:STANDARD
TZOFFSETFROM:+0200
TZOFFSETTO:+0100
TZNAME:CET
DTSTART:20241027T010000
END:STANDARD
END:VTIMEZONE
BEGIN:VEVENT
DTSTART;TZID=Europe/Stockholm:20240831T100000
DTEND;TZID=Europe/Stockholm:20240831T100000
DTSTAMP:20260422T100928
CREATED:20240910T075421Z
LAST-MODIFIED:20240910T075421Z
UID:3856-1725098400-1725098400@overbypk.se
SUMMARY:Mästerskap- MS
DESCRIPTION:Militär SnabbmatchMilitär snabbmatch omfattar normalt 12 serier om vardera 5 skott. Skjuttiderna är 10. 8 respektive 6 sekunder. I en helmatch skjuts 4 serier på varje visningstid. \nMilitär snabbmatch kan skjutas med vapengrupp A. B. C och R. Eftersom samtliga vapengrupper har samma skjuttid. tillåts stödhand i vapengrupp A och R. Skyttar som under året fyller 70 år eller mer får använda stödhand även i vapengrupp B och i klass Veteran Äldre. \nTavlan som används är den internationella snabbpistoltavlan.\nDe svenska reglerna är baserade på reglerna från CISM (International Military Sport Council).
URL:https://overbypk.se/index.php/event/masterskap-ms/
LOCATION:Skjutvallen\, SÖR SLÖN 3\, Strömstad\, 452 97\, Sverige
CATEGORIES:Klubbmästerskap
ATTACH;FMTTYPE=image/jpeg:https://overbypk.se/wp-content/uploads/2023/06/snabbpistoltavla.jpg
END:VEVENT
END:VCALENDAR