﻿BEGIN:VCALENDAR
VERSION:2.0
PRODID:-//Överby Pistolskytteklubb, Strömstad - ECPv6.8.3//NONSGML v1.0//EN
CALSCALE:GREGORIAN
METHOD:PUBLISH
X-ORIGINAL-URL:https://overbypk.se
X-WR-CALDESC:Händelser för Överby Pistolskytteklubb, Strömstad
REFRESH-INTERVAL;VALUE=DURATION:PT1H
X-Robots-Tag:noindex
X-PUBLISHED-TTL:PT1H
BEGIN:VTIMEZONE
TZID:Europe/Stockholm
BEGIN:DAYLIGHT
TZOFFSETFROM:+0100
TZOFFSETTO:+0200
TZNAME:CEST
DTSTART:20240331T010000
END:DAYLIGHT
BEGIN:STANDARD
TZOFFSETFROM:+0200
TZOFFSETTO:+0100
TZNAME:CET
DTSTART:20241027T010000
END:STANDARD
END:VTIMEZONE
BEGIN:VEVENT
DTSTART;TZID=Europe/Stockholm:20241005T100000
DTEND;TZID=Europe/Stockholm:20241005T110000
DTSTAMP:20260422T001630
CREATED:20240910T075421Z
LAST-MODIFIED:20240916T080420Z
UID:3866-1728122400-1728126000@overbypk.se
SUMMARY:Nationellt Fält- omgång 4 - C och B
DESCRIPTION:Nationellt Fältskytte omfattar skjutning på korta tider mot i terrängen. på varierande sätt. anordnade mål. Skjutningen utförs i patruller. Förflyttning mellan målen sker i regel till fots.\nEn tävling i nationellt fältskytte går ut på att med så många skott som möjligt träffa alla figurer. Resultatet anges vanligen ex: 47/25. vilket betyder 47 träff i 25 figurer. Vid nationellt fält så sörskiljs antalet träff med antalet träffade figurer. Vissa mål kan också ha poängräkning. Resultatet prioriteras då enligt: \nKritierie 1: Summa av träff\nKriterie 2: Summa av antal träffade figurer\nKriterie 3: Totalt antal poäng på specifika poängtavlor\nKriterie 4: Bästa resultat på den sista stationen\nKriterie 5: Bästa resultat på den näst sista stationen osv. \nEn tävling i fältskjutning omfattar ett antal stationer. På varje station skjuter man patrullvis mot 1 till 6 mål. Ofta är dessa uppdelade på flera målgrupper. 6 skott avlossas under mycket varierande tider. vanligen under en totaltid av 5 till 25 sekunder. \nAntalet stationer varierar beroende på typ av tävling. En större mästerskapstävling såsom ett svenskt mästerskap eller ett landsdelsmästerskap omfattar vanligen 10 stationer. d.v.s. 60 skott. En nationell tävling eller en kretstävling omfattar normalt 8 stationer (48 skott). Även 6 och 7 stationer förekommer. \nInga provserier skjuts. utan tävlingen börjar direkt på den första stationen. Skytten skall vara inskjuten och väl förberedd innan tävlingen börjar. \nFör mer info – Se https://www.pistolskytteforbundet.se/om-pistolskytte/faltskyttegrenar/faltskjutning/
URL:https://overbypk.se/index.php/event/nationellt-falt-omgang-4-c/
LOCATION:Skjutvallen\, SÖR SLÖN 3\, Strömstad\, 452 97\, Sverige
CATEGORIES:Klubbdeltävling
ATTACH;FMTTYPE=image/jpeg:https://overbypk.se/wp-content/uploads/2023/09/D3_9422-kZj4Ch.tmp_.jpg
ORGANIZER;CN="%C3%96verby PistolskytteKlubb":MAILTO:overbypk@gmail.com
END:VEVENT
BEGIN:VEVENT
DTSTART;TZID=Europe/Stockholm:20241012T120000
DTEND;TZID=Europe/Stockholm:20241012T120000
DTSTAMP:20260422T001630
CREATED:20240910T075421Z
LAST-MODIFIED:20240916T080129Z
UID:3867-1728734400-1728734400@overbypk.se
SUMMARY:Nationellt Fält- omgång 2 - A och R
DESCRIPTION:Nationellt Fältskytte omfattar skjutning på korta tider mot i terrängen. på varierande sätt. anordnade mål. Skjutningen utförs i patruller. Förflyttning mellan målen sker i regel till fots.\nEn tävling i nationellt fältskytte går ut på att med så många skott som möjligt träffa alla figurer. Resultatet anges vanligen ex: 47/25. vilket betyder 47 träff i 25 figurer. Vid nationellt fält så sörskiljs antalet träff med antalet träffade figurer. Vissa mål kan också ha poängräkning. Resultatet prioriteras då enligt: \nKritierie 1: Summa av träff\nKriterie 2: Summa av antal träffade figurer\nKriterie 3: Totalt antal poäng på specifika poängtavlor\nKriterie 4: Bästa resultat på den sista stationen\nKriterie 5: Bästa resultat på den näst sista stationen osv. \nEn tävling i fältskjutning omfattar ett antal stationer. På varje station skjuter man patrullvis mot 1 till 6 mål. Ofta är dessa uppdelade på flera målgrupper. 6 skott avlossas under mycket varierande tider. vanligen under en totaltid av 5 till 25 sekunder. \nAntalet stationer varierar beroende på typ av tävling. En större mästerskapstävling såsom ett svenskt mästerskap eller ett landsdelsmästerskap omfattar vanligen 10 stationer. d.v.s. 60 skott. En nationell tävling eller en kretstävling omfattar normalt 8 stationer (48 skott). Även 6 och 7 stationer förekommer. \nInga provserier skjuts. utan tävlingen börjar direkt på den första stationen. Skytten skall vara inskjuten och väl förberedd innan tävlingen börjar. \nFör mer info – Se https://www.pistolskytteforbundet.se/om-pistolskytte/faltskyttegrenar/faltskjutning/
URL:https://overbypk.se/index.php/event/nationellt-falt-omgang-4-a-och-r/
LOCATION:Skee Skyttegille\, W69J+PJ Tjärndalen\, Sverige\, Strömstad\, 45294\, Sverige
CATEGORIES:Klubbdeltävling
ATTACH;FMTTYPE=image/jpeg:https://overbypk.se/wp-content/uploads/2023/09/D3_9422-kZj4Ch.tmp_.jpg
ORGANIZER;CN="%C3%96verby PistolskytteKlubb":MAILTO:overbypk@gmail.com
END:VEVENT
BEGIN:VEVENT
DTSTART;TZID=Europe/Stockholm:20241012T100000
DTEND;TZID=Europe/Stockholm:20241012T110000
DTSTAMP:20260422T001630
CREATED:20240910T075421Z
LAST-MODIFIED:20240910T085156Z
UID:3869-1728727200-1728730800@overbypk.se
SUMMARY:nationellt fält- omgång 5 - C och B
DESCRIPTION:Nationellt Fältskytte omfattar skjutning på korta tider mot i terrängen. på varierande sätt. anordnade mål. Skjutningen utförs i patruller. Förflyttning mellan målen sker i regel till fots.\nEn tävling i nationellt fältskytte går ut på att med så många skott som möjligt träffa alla figurer. Resultatet anges vanligen ex: 47/25. vilket betyder 47 träff i 25 figurer. Vid nationellt fält så sörskiljs antalet träff med antalet träffade figurer. Vissa mål kan också ha poängräkning. Resultatet prioriteras då enligt: \nKritierie 1: Summa av träff\nKriterie 2: Summa av antal träffade figurer\nKriterie 3: Totalt antal poäng på specifika poängtavlor\nKriterie 4: Bästa resultat på den sista stationen\nKriterie 5: Bästa resultat på den näst sista stationen osv. \nEn tävling i fältskjutning omfattar ett antal stationer. På varje station skjuter man patrullvis mot 1 till 6 mål. Ofta är dessa uppdelade på flera målgrupper. 6 skott avlossas under mycket varierande tider. vanligen under en totaltid av 5 till 25 sekunder. \nAntalet stationer varierar beroende på typ av tävling. En större mästerskapstävling såsom ett svenskt mästerskap eller ett landsdelsmästerskap omfattar vanligen 10 stationer. d.v.s. 60 skott. En nationell tävling eller en kretstävling omfattar normalt 8 stationer (48 skott). Även 6 och 7 stationer förekommer. \nInga provserier skjuts. utan tävlingen börjar direkt på den första stationen. Skytten skall vara inskjuten och väl förberedd innan tävlingen börjar. \nFör mer info – Se https://www.pistolskytteforbundet.se/om-pistolskytte/faltskyttegrenar/faltskjutning/
URL:https://overbypk.se/index.php/event/nationellt-falt-omgang-5-c-och-b/
LOCATION:Skjutvallen\, SÖR SLÖN 3\, Strömstad\, 452 97\, Sverige
CATEGORIES:Klubbdeltävling
ATTACH;FMTTYPE=image/jpeg:https://overbypk.se/wp-content/uploads/2023/09/D3_9422-kZj4Ch.tmp_.jpg
ORGANIZER;CN="%C3%96verby PistolskytteKlubb":MAILTO:overbypk@gmail.com
END:VEVENT
BEGIN:VEVENT
DTSTART;TZID=Europe/Stockholm:20241026T100000
DTEND;TZID=Europe/Stockholm:20241026T110000
DTSTAMP:20260422T001630
CREATED:20240910T075506Z
LAST-MODIFIED:20240910T085035Z
UID:3874-1729936800-1729940400@overbypk.se
SUMMARY:Nationellt Fält- omgång 7 - C och B
DESCRIPTION:Nationellt Fältskytte omfattar skjutning på korta tider mot i terrängen. på varierande sätt. anordnade mål. Skjutningen utförs i patruller. Förflyttning mellan målen sker i regel till fots.\nEn tävling i nationellt fältskytte går ut på att med så många skott som möjligt träffa alla figurer. Resultatet anges vanligen ex: 47/25. vilket betyder 47 träff i 25 figurer. Vid nationellt fält så sörskiljs antalet träff med antalet träffade figurer. Vissa mål kan också ha poängräkning. Resultatet prioriteras då enligt: \nKritierie 1: Summa av träff\nKriterie 2: Summa av antal träffade figurer\nKriterie 3: Totalt antal poäng på specifika poängtavlor\nKriterie 4: Bästa resultat på den sista stationen\nKriterie 5: Bästa resultat på den näst sista stationen osv. \nEn tävling i fältskjutning omfattar ett antal stationer. På varje station skjuter man patrullvis mot 1 till 6 mål. Ofta är dessa uppdelade på flera målgrupper. 6 skott avlossas under mycket varierande tider. vanligen under en totaltid av 5 till 25 sekunder. \nAntalet stationer varierar beroende på typ av tävling. En större mästerskapstävling såsom ett svenskt mästerskap eller ett landsdelsmästerskap omfattar vanligen 10 stationer. d.v.s. 60 skott. En nationell tävling eller en kretstävling omfattar normalt 8 stationer (48 skott). Även 6 och 7 stationer förekommer. \nInga provserier skjuts. utan tävlingen börjar direkt på den första stationen. Skytten skall vara inskjuten och väl förberedd innan tävlingen börjar. \nFör mer info – Se https://www.pistolskytteforbundet.se/om-pistolskytte/faltskyttegrenar/faltskjutning/
URL:https://overbypk.se/index.php/event/nationellt-falt-omgang-7-c-och-b/
LOCATION:Skjutvallen\, SÖR SLÖN 3\, Strömstad\, 452 97\, Sverige
CATEGORIES:Klubbdeltävling
ATTACH;FMTTYPE=image/jpeg:https://overbypk.se/wp-content/uploads/2023/09/D3_9422-kZj4Ch.tmp_.jpg
ORGANIZER;CN="%C3%96verby PistolskytteKlubb":MAILTO:overbypk@gmail.com
END:VEVENT
END:VCALENDAR