﻿BEGIN:VCALENDAR
VERSION:2.0
PRODID:-//Överby Pistolskytteklubb, Strömstad - ECPv6.8.3//NONSGML v1.0//EN
CALSCALE:GREGORIAN
METHOD:PUBLISH
X-ORIGINAL-URL:https://overbypk.se
X-WR-CALDESC:Händelser för Överby Pistolskytteklubb, Strömstad
REFRESH-INTERVAL;VALUE=DURATION:PT1H
X-Robots-Tag:noindex
X-PUBLISHED-TTL:PT1H
BEGIN:VTIMEZONE
TZID:Europe/Stockholm
BEGIN:DAYLIGHT
TZOFFSETFROM:+0100
TZOFFSETTO:+0200
TZNAME:CEST
DTSTART:20240331T010000
END:DAYLIGHT
BEGIN:STANDARD
TZOFFSETFROM:+0200
TZOFFSETTO:+0100
TZNAME:CET
DTSTART:20241027T010000
END:STANDARD
END:VTIMEZONE
BEGIN:VEVENT
DTSTART;TZID=Europe/Stockholm:20240907T100000
DTEND;TZID=Europe/Stockholm:20240907T100000
DTSTAMP:20260425T155625
CREATED:20240910T075421Z
LAST-MODIFIED:20240910T075421Z
UID:3857-1725703200-1725703200@overbypk.se
SUMMARY:Arbetsdag
DESCRIPTION:Vi samlas vid klubbhuset för att gemensamt arbeta med exempelvis röjning av buskage. gräsklippning. snickra målställ. städa huset. städa övriga lokalen. se över skyltning och uppmärkning osv.\nTa med egna verktyg som kratta. spade och sop! \nHoppas så många som möjligt kan vara med och bidra med lite arbete.
URL:https://overbypk.se/index.php/event/arbetsdag-4/
LOCATION:Skjutvallen\, SÖR SLÖN 3\, Strömstad\, 452 97\, Sverige
CATEGORIES:Klubbdeltävling
ATTACH;FMTTYPE=image/jpeg:https://overbypk.se/wp-content/uploads/2023/04/IMG_0305.jpeg
END:VEVENT
BEGIN:VEVENT
DTSTART;TZID=Europe/Stockholm:20240914T100000
DTEND;TZID=Europe/Stockholm:20240914T110000
DTSTAMP:20260425T155625
CREATED:20240910T075421Z
LAST-MODIFIED:20240910T085614Z
UID:3859-1726308000-1726311600@overbypk.se
SUMMARY:Nationellt Fält- omgång 1 - C och B
DESCRIPTION:Nationellt Fältskytte omfattar skjutning på korta tider mot i terrängen. på varierande sätt. anordnade mål. Skjutningen utförs i patruller. Förflyttning mellan målen sker i regel till fots.\nEn tävling i nationellt fältskytte går ut på att med så många skott som möjligt träffa alla figurer. Resultatet anges vanligen ex: 47/25. vilket betyder 47 träff i 25 figurer. Vid nationellt fält så sörskiljs antalet träff med antalet träffade figurer. Vissa mål kan också ha poängräkning. Resultatet prioriteras då enligt: \nKritierie 1: Summa av träff\nKriterie 2: Summa av antal träffade figurer\nKriterie 3: Totalt antal poäng på specifika poängtavlor\nKriterie 4: Bästa resultat på den sista stationen\nKriterie 5: Bästa resultat på den näst sista stationen osv. \nEn tävling i fältskjutning omfattar ett antal stationer. På varje station skjuter man patrullvis mot 1 till 6 mål. Ofta är dessa uppdelade på flera målgrupper. 6 skott avlossas under mycket varierande tider. vanligen under en totaltid av 5 till 25 sekunder. \nAntalet stationer varierar beroende på typ av tävling. En större mästerskapstävling såsom ett svenskt mästerskap eller ett landsdelsmästerskap omfattar vanligen 10 stationer. d.v.s. 60 skott. En nationell tävling eller en kretstävling omfattar normalt 8 stationer (48 skott). Även 6 och 7 stationer förekommer. \nInga provserier skjuts. utan tävlingen börjar direkt på den första stationen. Skytten skall vara inskjuten och väl förberedd innan tävlingen börjar. \nFör mer info – Se https://www.pistolskytteforbundet.se/om-pistolskytte/faltskyttegrenar/faltskjutning/
URL:https://overbypk.se/index.php/event/nationellt-falt-omgang-1-c-och-b/
LOCATION:Skjutvallen\, SÖR SLÖN 3\, Strömstad\, 452 97\, Sverige
CATEGORIES:Klubbdeltävling
ATTACH;FMTTYPE=image/jpeg:https://overbypk.se/wp-content/uploads/2023/09/D3_9422-kZj4Ch.tmp_.jpg
ORGANIZER;CN="%C3%96verby PistolskytteKlubb":MAILTO:overbypk@gmail.com
END:VEVENT
BEGIN:VEVENT
DTSTART;TZID=Europe/Stockholm:20240921T100000
DTEND;TZID=Europe/Stockholm:20240921T110000
DTSTAMP:20260425T155625
CREATED:20240910T075421Z
LAST-MODIFIED:20240910T152117Z
UID:3860-1726912800-1726916400@overbypk.se
SUMMARY:Nationellt Fält- omgång 2 - C och B
DESCRIPTION:Nationellt Fältskytte omfattar skjutning på korta tider mot i terrängen. på varierande sätt. anordnade mål. Skjutningen utförs i patruller. Förflyttning mellan målen sker i regel till fots.\nEn tävling i nationellt fältskytte går ut på att med så många skott som möjligt träffa alla figurer. Resultatet anges vanligen ex: 47/25. vilket betyder 47 träff i 25 figurer. Vid nationellt fält så sörskiljs antalet träff med antalet träffade figurer. Vissa mål kan också ha poängräkning. Resultatet prioriteras då enligt: \nKritierie 1: Summa av träff\nKriterie 2: Summa av antal träffade figurer\nKriterie 3: Totalt antal poäng på specifika poängtavlor\nKriterie 4: Bästa resultat på den sista stationen\nKriterie 5: Bästa resultat på den näst sista stationen osv. \nEn tävling i fältskjutning omfattar ett antal stationer. På varje station skjuter man patrullvis mot 1 till 6 mål. Ofta är dessa uppdelade på flera målgrupper. 6 skott avlossas under mycket varierande tider. vanligen under en totaltid av 5 till 25 sekunder. \nAntalet stationer varierar beroende på typ av tävling. En större mästerskapstävling såsom ett svenskt mästerskap eller ett landsdelsmästerskap omfattar vanligen 10 stationer. d.v.s. 60 skott. En nationell tävling eller en kretstävling omfattar normalt 8 stationer (48 skott). Även 6 och 7 stationer förekommer. \nInga provserier skjuts. utan tävlingen börjar direkt på den första stationen. Skytten skall vara inskjuten och väl förberedd innan tävlingen börjar. \nFör mer info – Se https://www.pistolskytteforbundet.se/om-pistolskytte/faltskyttegrenar/faltskjutning/
URL:https://overbypk.se/index.php/event/nationellt-falt-omgang-2-c/
LOCATION:Skjutvallen\, SÖR SLÖN 3\, Strömstad\, 452 97\, Sverige
CATEGORIES:Klubbdeltävling
ATTACH;FMTTYPE=image/jpeg:https://overbypk.se/wp-content/uploads/2023/09/D3_9422-kZj4Ch.tmp_.jpg
ORGANIZER;CN="%C3%96verby PistolskytteKlubb":MAILTO:overbypk@gmail.com
END:VEVENT
BEGIN:VEVENT
DTSTART;TZID=Europe/Stockholm:20240921T120000
DTEND;TZID=Europe/Stockholm:20240921T130000
DTSTAMP:20260425T155625
CREATED:20240910T075421Z
LAST-MODIFIED:20240910T152253Z
UID:3861-1726920000-1726923600@overbypk.se
SUMMARY:Nationellt Fält- omgång 1 - A och R
DESCRIPTION:Nationellt Fältskytte omfattar skjutning på korta tider mot i terrängen. på varierande sätt. anordnade mål. Skjutningen utförs i patruller. Förflyttning mellan målen sker i regel till fots.\nEn tävling i nationellt fältskytte går ut på att med så många skott som möjligt träffa alla figurer. Resultatet anges vanligen ex: 47/25. vilket betyder 47 träff i 25 figurer. Vid nationellt fält så sörskiljs antalet träff med antalet träffade figurer. Vissa mål kan också ha poängräkning. Resultatet prioriteras då enligt: \nKritierie 1: Summa av träff\nKriterie 2: Summa av antal träffade figurer\nKriterie 3: Totalt antal poäng på specifika poängtavlor\nKriterie 4: Bästa resultat på den sista stationen\nKriterie 5: Bästa resultat på den näst sista stationen osv. \nEn tävling i fältskjutning omfattar ett antal stationer. På varje station skjuter man patrullvis mot 1 till 6 mål. Ofta är dessa uppdelade på flera målgrupper. 6 skott avlossas under mycket varierande tider. vanligen under en totaltid av 5 till 25 sekunder. \nAntalet stationer varierar beroende på typ av tävling. En större mästerskapstävling såsom ett svenskt mästerskap eller ett landsdelsmästerskap omfattar vanligen 10 stationer. d.v.s. 60 skott. En nationell tävling eller en kretstävling omfattar normalt 8 stationer (48 skott). Även 6 och 7 stationer förekommer. \nInga provserier skjuts. utan tävlingen börjar direkt på den första stationen. Skytten skall vara inskjuten och väl förberedd innan tävlingen börjar. \nFör mer info – Se https://www.pistolskytteforbundet.se/om-pistolskytte/faltskyttegrenar/faltskjutning/
URL:https://overbypk.se/index.php/event/nationellt-falt-omgang-2-a-och-r/
LOCATION:Skee Skyttegille\, W69J+PJ Tjärndalen\, Sverige\, Strömstad\, 45294\, Sverige
CATEGORIES:Klubbdeltävling
ATTACH;FMTTYPE=image/jpeg:https://overbypk.se/wp-content/uploads/2023/09/D3_9422-kZj4Ch.tmp_.jpg
ORGANIZER;CN="%C3%96verby PistolskytteKlubb":MAILTO:overbypk@gmail.com
END:VEVENT
BEGIN:VEVENT
DTSTART;TZID=Europe/Stockholm:20240928T100000
DTEND;TZID=Europe/Stockholm:20240928T110000
DTSTAMP:20260425T155625
CREATED:20240910T075421Z
LAST-MODIFIED:20240910T085311Z
UID:3863-1727517600-1727521200@overbypk.se
SUMMARY:Nationellt Fält- omgång 3 - C och B
DESCRIPTION:Nationellt Fältskytte omfattar skjutning på korta tider mot i terrängen. på varierande sätt. anordnade mål. Skjutningen utförs i patruller. Förflyttning mellan målen sker i regel till fots.\nEn tävling i nationellt fältskytte går ut på att med så många skott som möjligt träffa alla figurer. Resultatet anges vanligen ex: 47/25. vilket betyder 47 träff i 25 figurer. Vid nationellt fält så sörskiljs antalet träff med antalet träffade figurer. Vissa mål kan också ha poängräkning. Resultatet prioriteras då enligt: \nKritierie 1: Summa av träff\nKriterie 2: Summa av antal träffade figurer\nKriterie 3: Totalt antal poäng på specifika poängtavlor\nKriterie 4: Bästa resultat på den sista stationen\nKriterie 5: Bästa resultat på den näst sista stationen osv. \nEn tävling i fältskjutning omfattar ett antal stationer. På varje station skjuter man patrullvis mot 1 till 6 mål. Ofta är dessa uppdelade på flera målgrupper. 6 skott avlossas under mycket varierande tider. vanligen under en totaltid av 5 till 25 sekunder. \nAntalet stationer varierar beroende på typ av tävling. En större mästerskapstävling såsom ett svenskt mästerskap eller ett landsdelsmästerskap omfattar vanligen 10 stationer. d.v.s. 60 skott. En nationell tävling eller en kretstävling omfattar normalt 8 stationer (48 skott). Även 6 och 7 stationer förekommer. \nInga provserier skjuts. utan tävlingen börjar direkt på den första stationen. Skytten skall vara inskjuten och väl förberedd innan tävlingen börjar. \nFör mer info – Se https://www.pistolskytteforbundet.se/om-pistolskytte/faltskyttegrenar/faltskjutning/
URL:https://overbypk.se/index.php/event/nationellt-falt-omgang-3-c-och-b/
LOCATION:Skjutvallen\, SÖR SLÖN 3\, Strömstad\, 452 97\, Sverige
CATEGORIES:Klubbdeltävling
ATTACH;FMTTYPE=image/jpeg:https://overbypk.se/wp-content/uploads/2023/09/D3_9422-kZj4Ch.tmp_.jpg
ORGANIZER;CN="%C3%96verby PistolskytteKlubb":MAILTO:overbypk@gmail.com
END:VEVENT
END:VCALENDAR