﻿BEGIN:VCALENDAR
VERSION:2.0
PRODID:-//Överby Pistolskytteklubb, Strömstad - ECPv6.8.3//NONSGML v1.0//EN
CALSCALE:GREGORIAN
METHOD:PUBLISH
X-WR-CALNAME:Överby Pistolskytteklubb, Strömstad
X-ORIGINAL-URL:https://overbypk.se
X-WR-CALDESC:Händelser för Överby Pistolskytteklubb, Strömstad
REFRESH-INTERVAL;VALUE=DURATION:PT1H
X-Robots-Tag:noindex
X-PUBLISHED-TTL:PT1H
BEGIN:VTIMEZONE
TZID:Europe/Stockholm
BEGIN:DAYLIGHT
TZOFFSETFROM:+0100
TZOFFSETTO:+0200
TZNAME:CEST
DTSTART:20230326T010000
END:DAYLIGHT
BEGIN:STANDARD
TZOFFSETFROM:+0200
TZOFFSETTO:+0100
TZNAME:CET
DTSTART:20231029T010000
END:STANDARD
END:VTIMEZONE
BEGIN:VEVENT
DTSTART;TZID=Europe/Stockholm:20230712T180000
DTEND;TZID=Europe/Stockholm:20230712T190000
DTSTAMP:20260425T145410
CREATED:20230707T100640Z
LAST-MODIFIED:20230905T093830Z
UID:2086-1689184800-1689188400@overbypk.se
SUMMARY:Möte för funktionärer och andra intresserade inför Pistol SM
DESCRIPTION:Enligt inlägg på hemsidan så planerar vi ett möte i klubbstugan på onsdag 12/7 klockan 18:00 för de som i någon form ska medverka på Pistol SM i Göteborg i Augusti.
URL:https://overbypk.se/index.php/event/mote-for-funktionarer-och-andra-intresserade-infor-pistol-sm/
LOCATION:Klubbstugan
CATEGORIES:Arbetsdag,Intern Utbildning
ORGANIZER;CN="%C3%96verby PistolskytteKlubb":MAILTO:overbypk@gmail.com
END:VEVENT
END:VCALENDAR