﻿BEGIN:VCALENDAR
VERSION:2.0
PRODID:-//Överby Pistolskytteklubb, Strömstad - ECPv6.8.3//NONSGML v1.0//EN
CALSCALE:GREGORIAN
METHOD:PUBLISH
X-ORIGINAL-URL:https://overbypk.se
X-WR-CALDESC:Händelser för Överby Pistolskytteklubb, Strömstad
REFRESH-INTERVAL;VALUE=DURATION:PT1H
X-Robots-Tag:noindex
X-PUBLISHED-TTL:PT1H
BEGIN:VTIMEZONE
TZID:Europe/Stockholm
BEGIN:DAYLIGHT
TZOFFSETFROM:+0100
TZOFFSETTO:+0200
TZNAME:CEST
DTSTART:20240331T010000
END:DAYLIGHT
BEGIN:STANDARD
TZOFFSETFROM:+0200
TZOFFSETTO:+0100
TZNAME:CET
DTSTART:20241027T010000
END:STANDARD
END:VTIMEZONE
BEGIN:VEVENT
DTSTART;TZID=Europe/Stockholm:20240420T100000
DTEND;TZID=Europe/Stockholm:20240420T113000
DTSTAMP:20260425T143807
CREATED:20240426T102028Z
LAST-MODIFIED:20240426T102028Z
UID:3769-1713607200-1713612600@overbypk.se
SUMMARY:Arbetsdag
DESCRIPTION:Vi samlas vid klubbhuset för att gemensamt arbeta med exempelvis röjning av buskage. gräsklippning. snickra målställ. städa huset. städa övriga lokalen. se över skyltning och uppmärkning osv.\nTa med egna verktyg som kratta. spade och sop! \nHoppas så många som möjligt kan vara med och bidra med lite arbete.
URL:https://overbypk.se/index.php/event/arbetsdag-3/
LOCATION:Skjutvallen\, SÖR SLÖN 3\, Strömstad\, 452 97\, Sverige
CATEGORIES:Klubbdeltävling
ATTACH;FMTTYPE=image/jpeg:https://overbypk.se/wp-content/uploads/2023/04/IMG_0305.jpeg
END:VEVENT
END:VCALENDAR